
BEGIN:VCALENDAR
VERSION:2.0
PRODID:http://www.bluesclubbuehler.ch
METHOD:PUBLISH
BEGIN:VEVENT
DTSTART:20261204T20.30
DTEND:20261204T235959
SUMMARY;ENCODING=QUOTED-PRINTABLE:Bluesclub Bühler - Tears for Beers
DESCRIPTION;FMTTYPE=text/html:<?xml version="1.0" encoding="iso-8859-1"?><!DOCTYPE html PUBLIC "-//W3C//DTD XHTML 1.1//EN" "http://www.w3.org/TR/xhtml11/DTD/xhtml11.dtd"><html><head></head><body><h2>Tears for Beers</h2><p>Beginn: 04.12.2026 - 20.30</p><p><a href="http://www.bluesclubbuehler.ch/events.php?id=2129416579">Alle Informationen zu diesem Event gibt es hier</a></p></body></html>
X-ALT-DESC;FMTTYPE=text/html:<?xml version="1.0" encoding="iso-8859-1"?><!DOCTYPE html PUBLIC "-//W3C//DTD XHTML 1.1//EN" "http://www.w3.org/TR/xhtml11/DTD/xhtml11.dtd"><html><head></head><body><h2>Tears for Beers</h2><p>Beginn: 04.12.2026 - 20.30</p><p><a href="http://www.bluesclubbuehler.ch/events.php?id=2129416579">Alle Informationen zu diesem Event gibt es hier</a></p></body></html>
UID:
END:VEVENT
END:VCALENDAR
